BEGIN:VCALENDAR
VERSION:2.0
PRODID:-//Jakob Kreß – Bariton - ECPv6.15.20//NONSGML v1.0//EN
CALSCALE:GREGORIAN
METHOD:PUBLISH
X-WR-CALNAME:Jakob Kreß – Bariton
X-ORIGINAL-URL:https://www.jakob-kress.de
X-WR-CALDESC:Veranstaltungen für Jakob Kreß – Bariton
REFRESH-INTERVAL;VALUE=DURATION:PT1H
X-Robots-Tag:noindex
X-PUBLISHED-TTL:PT1H
BEGIN:VTIMEZONE
TZID:Europe/Berlin
BEGIN:DAYLIGHT
TZOFFSETFROM:+0100
TZOFFSETTO:+0200
TZNAME:CEST
DTSTART:20210328T010000
END:DAYLIGHT
BEGIN:STANDARD
TZOFFSETFROM:+0200
TZOFFSETTO:+0100
TZNAME:CET
DTSTART:20211031T010000
END:STANDARD
BEGIN:DAYLIGHT
TZOFFSETFROM:+0100
TZOFFSETTO:+0200
TZNAME:CEST
DTSTART:20220327T010000
END:DAYLIGHT
BEGIN:STANDARD
TZOFFSETFROM:+0200
TZOFFSETTO:+0100
TZNAME:CET
DTSTART:20221030T010000
END:STANDARD
BEGIN:DAYLIGHT
TZOFFSETFROM:+0100
TZOFFSETTO:+0200
TZNAME:CEST
DTSTART:20230326T010000
END:DAYLIGHT
BEGIN:STANDARD
TZOFFSETFROM:+0200
TZOFFSETTO:+0100
TZNAME:CET
DTSTART:20231029T010000
END:STANDARD
END:VTIMEZONE
BEGIN:VEVENT
DTSTART;TZID=Europe/Berlin:20220402T190000
DTEND;TZID=Europe/Berlin:20220402T190000
DTSTAMP:20260424T092505
CREATED:20220110T110641Z
LAST-MODIFIED:20220402T104940Z
UID:1017-1648926000-1648926000@www.jakob-kress.de
SUMMARY:Die Jahreszeiten (Joseph Haydn)
DESCRIPTION:Zusammen mit einem Orchester aus Studierenden der Hochschule für Musik Nürnberg und namhaften Solisten wie Jan Kobow\, Tenor oder Jakob Kreß\, Bass wird in der evangelischen Ulrichskirche das zweite große\, etwa zweistündige Oratorium\, das Joseph Haydn in den Jahren 1798-1801 komponierte\, aufgeführt. \nDas Werk schildert in großer Farbigkeit den Lauf der Jahreszeiten. Die zeitgenössische Kritik schrieb im Vergleich mit der „Schöpfung“ sei das Werk „noch mehr geglückt\, hier\, wo sich der Genius des Künstlers an der Hand der Natur mit unbegreiflicher Vielseitigkeit gleich frey und gleich lebendig in den Darstellungen des Erhabensten und Furchtbarsten\, wie des Zärtlichsten und Freundlichsten bewegt.“ Das stark vom Josephinismus und der Aufklärung geprägte Werk nach einem Text von Van Swieten besticht durch eine äußerst moderne Instrumentation\, durch die großartige Zusammenarbeit des Solistenensembles mit dem Chor\, durch plastische Naturschilderung und auch drastische Partien\, wie dem berühmten Trinkchor am Ende des „Herbstes“. \nText: Homepage Augsburger Vokalensemble \n  \nAugsburger Vokalensemble \nOrchester aus Studierenden der HfM Nürnberg \n  \nSopran: Sofia Kusanova \nTenor: Jan Kobow \nBass: Jakob Kreß \nLeitung: Alfons Brandl
URL:https://www.jakob-kress.de/konzert/die-jahreszeiten/
LOCATION:ev. St. Ulrich\, Augsburg\, Ulrichspl. 20\, Augsburg\, 86150
END:VEVENT
END:VCALENDAR