BEGIN:VCALENDAR
VERSION:2.0
PRODID:-//Jakob Kreß – Bariton - ECPv6.15.20//NONSGML v1.0//EN
CALSCALE:GREGORIAN
METHOD:PUBLISH
X-WR-CALNAME:Jakob Kreß – Bariton
X-ORIGINAL-URL:https://www.jakob-kress.de
X-WR-CALDESC:Veranstaltungen für Jakob Kreß – Bariton
REFRESH-INTERVAL;VALUE=DURATION:PT1H
X-Robots-Tag:noindex
X-PUBLISHED-TTL:PT1H
BEGIN:VTIMEZONE
TZID:Europe/Berlin
BEGIN:DAYLIGHT
TZOFFSETFROM:+0100
TZOFFSETTO:+0200
TZNAME:CEST
DTSTART:20210328T010000
END:DAYLIGHT
BEGIN:STANDARD
TZOFFSETFROM:+0200
TZOFFSETTO:+0100
TZNAME:CET
DTSTART:20211031T010000
END:STANDARD
BEGIN:DAYLIGHT
TZOFFSETFROM:+0100
TZOFFSETTO:+0200
TZNAME:CEST
DTSTART:20220327T010000
END:DAYLIGHT
BEGIN:STANDARD
TZOFFSETFROM:+0200
TZOFFSETTO:+0100
TZNAME:CET
DTSTART:20221030T010000
END:STANDARD
BEGIN:DAYLIGHT
TZOFFSETFROM:+0100
TZOFFSETTO:+0200
TZNAME:CEST
DTSTART:20230326T010000
END:DAYLIGHT
BEGIN:STANDARD
TZOFFSETFROM:+0200
TZOFFSETTO:+0100
TZNAME:CET
DTSTART:20231029T010000
END:STANDARD
END:VTIMEZONE
BEGIN:VEVENT
DTSTART;TZID=Europe/Berlin:20220415T143000
DTEND;TZID=Europe/Berlin:20220415T153000
DTSTAMP:20260423T043058
CREATED:20220321T152744Z
LAST-MODIFIED:20220321T155750Z
UID:1062-1650033000-1650036600@www.jakob-kress.de
SUMMARY:Johannespassion (Heinrich Schütz)
DESCRIPTION:Historia des Leidens und Sterbens unseres Herrn und Heilands Jesu Christi nach dem Evangelisten St. Johannes \n  \nNeustädter Kantorei \nEvangelist: Jakob Kreß \nLeitung: Benedikt Ofner
URL:https://www.jakob-kress.de/konzert/johannespassion-heinrich-schuetz/
LOCATION:Neustädter Universitäts-Kirche\, Neustädter Kirchenplatz\, Erlangen\, 91054
END:VEVENT
END:VCALENDAR